BEGIN:VCALENDAR
VERSION:2.0
PRODID:https://github.com/derhansen/sf_event_mgt
METHOD:PUBLISH
BEGIN:VEVENT
UID:238-95@lichtanker.at
CLASS: PUBLIC
SUMMARY:Zhineng Qigong Grundkurs
DESCRIPTION:Entdecke die Kraft von Zhineng Qigong und öffne die Tür zu ei
 ner transformativen Reise mit dem Verein HUN YUAN QI ÖSTERREICH.\n\nTauch
 e ein in ein Reich von Vitalität, Selbstfindung und ganzheitlicher Selbst
 heilung.\n\nZhineng Qigong ist in China wissenschaftlich anerkannt und wir
 d für seinen ganzheitlichen Ansatz für Wohlbefinden geschätzt, der kör
 perliche Gesundheit, emotionales Gleichgewicht, geistige Klarheit und spir
 ituelles Wachstum unterstützt und fördert - genau richtig für Menschen,
  die eine ganzheitliche Praxis suchen, die Geist, Körper und Seele integr
 iert.\n\n”SELBSTGESUNDHEITSMANAGEMENT MIT QI” Das Projekt richtet sich
  in erster Linie an Menschen, die ihre Gesundheit und ihr allgemeines Wohl
 befinden auf allen Ebenen durch einen neuen Fokus eigeninitiativ stark ver
 bessern möchten. Ob Zhineng Qigong Neuling oder bereits Praktizierender -
  die Inhalte dieses Projekts holen dich dort ab, wo du gerade stehst, mit 
 direkten Hilfestellungen für Körper und Geist, durch leicht durchführba
 re, kraftvolle Praxisübungen und Meditationen.\n\nDu fühlst dich angespr
 ochen? Dann starte mit GANZHEITLICHER GESUNDHEIT TEIL 1\n\nOrt wir noch be
 kanntgegeben.\n\nWeitere Infos findest du hier: www.hunyuanqi.at\n\nhttps:
 //www.hunyuanqi.at/FolderSelbstgesundheitsmanagement_mit_Qi.pdf
DTSTAMP:20260111T174808Z
DTSTART:20260314T080000Z
DTEND:20260315T170000Z
END:VEVENT
END:VCALENDAR