BEGIN:VCALENDAR
VERSION:2.0
PRODID:https://github.com/derhansen/sf_event_mgt
METHOD:PUBLISH
BEGIN:VEVENT
UID:69-95@lichtanker.at
CLASS: PUBLIC
SUMMARY:Wildniskurs 1
DESCRIPTION:Die Grundtechniken des Ãœberlebens in der Natur:\n\nKreiert ist
  dieser Kurs fÃ¼r jene Menschen, die realistische und handfeste Techniken 
 erlernen mÃ¶chten, sowie fÃ¼r diejenigen, die mehr erfahren wollen Ã¼ber d
 as Leben und Ãœberleben in freier Natur. AuÃŸerhalb vom Klischee â€žWÃ¼rme
 r zu essen und Rambo zu spielenâ€œ, eignen wir uns konkrete Native-Technik
 en an, die auf Jahrtausende altem Wissen beruhen.\n\nEs handelt sich hier 
 um das sogenannte â€žNaked Survivalâ€œ - Ãœberleben ohne moderne Hilfsmitt
 el!\n\nDiese Grundtechniken des Ãœberlebens geben uns mehr Selbstvertrauen
  und Sicherheit in der Begegnung mit der Natur und befÃ¤higen uns in einer
  wirklichen Ãœberlebenssituation, selbst ohne ein Messer oder ein Feuerzeu
 g auszukommen. Es wird uns auch eine andere Sichtweise nÃ¤her gebracht: Di
 e Natur ist unsere Urheimat, sie hÃ¤lt fÃ¼r uns alles bereit, was wir brau
 chen. Kein Ãœberlebenskampf, sondern ein sanfter Einstieg in neue Dimensio
 nen des Erfahrens der Natur und des eigenen Selbst!\n\nIn diesen Tagen Ã¼b
 en wir die wichtigsten Basistechniken, wobei wir uns nicht sofort in eine 
 Ãœberlebenssituation begeben. Es ist wichtig, diese Techniken vorerst unte
 r angenehmen Bedingungen zu trainieren. Das einzigartige Naturambiente des
  Schalklhofs, direkt am Ufer des Alpenflusses Inn, welches von wilder Natu
 r umgeben ist, gibt uns das GefÃ¼hl in der Wildnis zu sein! Gut gestÃ¤rkt 
 vom kÃ¶stlichen Essen aus unserer Schalklhof-KÃ¼che, kÃ¶nnen wir uns dem s
 pannenden und umfangreichen Thema Wildnis & Survival bewusst und mit genÃ¼
 gend Zeit annÃ¤hern. Erst wenn wir diese Techniken geÃ¼bt und verinnerlich
 t haben, ist es uns mÃ¶glich, in einer wirklichen Ãœberlebenssituation zu 
 bestehen!\n\nDie Techniken und Praktiken werden so vermittelt, dass sie vo
 n jedem und jeder nachvollzogen werden kÃ¶nnen, somit werden tiefgehende u
 nd persÃ¶nliche Erfahrungen mÃ¶glich.\n\nGesamtkosten:Â 695 â‚¬\n\n 	412 â
 ‚¬ Kurs & Material 	187 â‚¬ Vollverpflegung 	96 â‚¬ Unterkunft \n\nLichTAn
 ker-Mitglieder erhalten eine ErmÃ¤ÃŸigungÂ auf die Kurskosten.\n\nPreis fÃ
 ¼r LichTAnker-Mitglieder:Â 665 â‚¬\n\nÂ \n\nHier gehts zur Kursanmeldung!\
 n\nBitte beim Anmeldeformular bei "MÃ¶chtest du uns noch etwas mitteilen?"
  angeben, dass ihr LichTAnker-Mitglieder seid bzw. vom LichTAnker Ã¼ber Na
 tive Spirit erfahren habt
LOCATION:Native Spirit
DTSTAMP:20200819T201847Z
DTSTART:20200923T170000Z
DTEND:20200927T100000Z
END:VEVENT
END:VCALENDAR