BEGIN:VCALENDAR
VERSION:2.0
PRODID:https://github.com/derhansen/sf_event_mgt
METHOD:PUBLISH
BEGIN:VEVENT
UID:48-95@lichtanker.at
CLASS: PUBLIC
SUMMARY:SchwitzhÃ¼tte
DESCRIPTION:Wir nennen die SchwitzhÃ¼tte auch Sonnen-Erde-HÃ¼tte, weil Sonn
 e und Erde stÃ¤ndig im Begriff sind â€žLiebe zu machenâ€œ, daraus entstand
  vor hunderten von Millionen Jahren das â€žKind des Lebensâ€œ. Dazu zÃ¤hle
 n Pflanzen, Tiere und auch wir Menschen, in diesem Sinne sind alle Lebewes
 en dieses Planeten die Kinder der Erde und der Sonne.\n\nIn der Sonnen-Erd
 e-HÃ¼tte, dem Bauch der groÃŸen Mutter, erleben wir erneut die VermÃ¤hlung
  von Mutter Erde und Vater Sonne. Hier kÃ¶nnen wir uns von Altlasten befre
 ien, wir haben die MÃ¶glichkeit, unsere Energien aufzuladen und dadurch ti
 efe Heilung zu erfahren.\n\nWir kÃ¶nnen sowohl fÃ¼r uns selbst als auch fÃ
 ¼r Andere oder etwas Anderes wie Heilung, Frieden, Erkenntnis oder Bewusst
 sein beten. Wir erhalten auch die Gelegenheit, uns einfach nur zu bedanken
 .\n\nDie Erd-SonnenhÃ¼tte ist sehr machtvoll, daher dÃ¼rfen unsere WÃ¼nsch
 e, die wir in der HÃ¼tte aussprechen mÃ¶chten, genau Ã¼berlegt sein. Diese
  WÃ¼nsche kÃ¶nnen nÃ¤mlich schnell in ErfÃ¼llung gehen!\n\n\n\nGesamtkoste
 n:Â 180 â‚¬ 107 â‚¬ Kurs & Material 49 â‚¬ Vollverpflegung 24 â‚¬ Unterkun
 ft( im beheizbaren Holz-Tipi)\n\nLichTAnker-Mitglieder erhalten eine ErmÃ¤
 ÃŸigungÂ auf die Kurskosten.\n\nPreis fÃ¼r LichTAnker-Mitglieder: 170Â â‚¬
 \n\nÂ \n\nÂ \n\nHier gehts zur Kursanmeldung!\n\nBitte beim Anmeldeformula
 r bei "MÃ¶chtest du uns noch etwas mitteilen?" angeben, dass ihr LichTAnke
 r-Mitglieder seid bzw. vom LichTAnker Ã¼ber Native Spirit erfahren habt
LOCATION:Native Spirit
DTSTAMP:20200528T090126Z
DTSTART:20200718T110000Z
DTEND:20200719T100000Z
END:VEVENT
END:VCALENDAR