BEGIN:VCALENDAR
VERSION:2.0
PRODID:https://github.com/derhansen/sf_event_mgt
METHOD:PUBLISH
BEGIN:VEVENT
UID:7-155@lichtanker.at
CLASS: PUBLIC
SUMMARY:ErÃ¶ffnungs Ansprache
DESCRIPTION:MÃ¶chtest du eine Technik lernen, die dir dabei hilft dich aus 
 Verstrickungen zu befreien? MÃ¶chtest du lernen, wie die Atmung dein Leben
  nachhaltig positiv beeinflussen kann? Wenn du frei sein und Verantwortung
  Ã¼ber dein Leben Ã¼bernehmen willst, dann ist das der richtige Workshop f
 Ã¼r dich!\n\nWir alle kennen das - wir haben Beziehungen zu Menschen, die 
 Energie rauben, die uns emotional belasten und uns einfach nicht los lasse
 n. Oder im Gegenteil, wir fÃ¼hlen, dass wir Vieles heil und unbelastet abg
 eschlossen haben: die ehemalige Beziehung, die Erinnerungen an das alte Ha
 us, die ehemalige Arbeit, die Beziehung zu unseren Eltern oder den Streit 
 mit einem geliebten Menschen. Was aber Allem gemeinsam ist, ist die energe
 tische Verbindung, die wir in jedem Moment unseres Lebens zu Allem eingehe
 n. Im Laufe unseres Lebens geben wir einen Teil unserer Energie ab. In jed
 er Situation, in jeder Person und sogar an jedem Ort lassen wir einen Teil
  von uns zurÃ¼ck und tragen ein StÃ¼ck dessen mit uns. Nachdem wir im Lebe
 n lernen uns emotional oder physisch zu trennen und etwas loszulassen, kÃ¶
 nnen wir nun auch lernen, unsere Energie zurÃ¼ckzuholen und nicht-eigene E
 nergie zurÃ¼ckzugeben. Die Rekapitulation wird uns dabei helfen.\n\nIn die
 ser Einheit von 60 Min. werden wir KÃ¶rper und Geist entspannen, um danach
  gemeinsam zu rekapitulieren. Davor erstellen wir â€“ jeder fÃ¼r sich â€“ 
 eine Liste, mit dem, was es zu rekapitulieren gibt. Wir verbinden uns mit 
 der Kraft, die dieser sehr alten Praxis inne ist und tauschen uns danach Ã
 ¼ber die Erfahrungen aus.\n\nIn dieser neuen Workshopreihe â€žStille und D
 ynamische Bewusstseinstechnikenâ€œ mÃ¶chte ich Euch durch praktische Anwen
 dungen einige von vielen Bewusstseinstechniken nÃ¤her bringen. Dieses Jahr
  arbeiten wir mit der Kraft der Atmung (Rekapitulation) und der Kraft der 
 Bewegung (Intensi). Im nÃ¤chsten Jahr arbeiten wir dann mit der Kraft der 
 Gedanken und der Kraft der Imagination.\n\nIch freue mich darauf, mit euch
  nach Kraft zu jagen! Eure Sabrina\n\n\n\nDie Rekapitulation\n\nDie Rekapi
 tulation ist die praktische Grundlage des toltekischen Schamanismus, der a
 lt-mexikanischen Zauberei oder der sogenannten â€žanderen Wirklichkeitâ€œ,
  wie sie Carlos Castaneda gerne bezeichnete. Zukunft, Gegenwart und Vergan
 genheit entsprechen unserer Illusion von Zeit, die innerhalb der linearen 
 Zeitvorstellung existiert. Die Rekapitulation ist eine lange gehÃ¼tete Ate
 mtechnik und entspricht dem wichtigen Prinzip des toltekischen Schamanismu
 s, das von Gleichzeitigkeit spricht und ur-eigenes Wissen direkt erfahrbar
  macht.\n\nWenn wir erkennen, dass wir die Zukunft erschaffen und sie bere
 its jetzt ein Teil von uns ist, verdrÃ¤ngen wir die gÃ¤ngige Vorstellung v
 on Zeit in den Hintergrund. Unsere Absichten, Ziele und WÃ¼nsche sind es, 
 die uns gegenwÃ¤rtig begegnen â€“ sie sind das Manifest unserer Vergangenh
 eit. Jedes Ereignis, jedes Problem, jede Erfahrung und jeder Moment zeigen
  unsere Vergangenheit auf.\n\nWenn wir uns in Verantwortlichkeit, Integrit
 Ã¤t und Disziplin Ã¼ben, haben wir zentrale Voraussetzungen um mit uns, de
 r Umwelt und verschiedenen (Erfahrungs-)RÃ¤umen umzugehen.\n\nWenn wir das
 , was uns ausmacht rekapitulieren, verÃ¤ndern wir unsere Vergangenheit. Be
 ziehungen, Verbindungen zu Allem (und letztendlich zu sich selbst) machen 
 uns zu dem, was wir sind. Unsere persÃ¶nliche Geschichte erklÃ¤rt uns, wir
 kt identitÃ¤tsstiftend und bindet uns. Sich zu ent-wickeln meint, sich in 
 erster Linie von der Vergangenheit lÃ¶sen.\n\nFÃ¼r alle KriegerInnen unter
  uns meint es noch viel mehr: Indem wir uns von der persÃ¶nlichen Geschich
 te befreien machen wir uns frei. Wir trennen uns von Allem was bindet â€“ 
 im energetischen Aspekt unseres Selbst. Wir Ã¶ffnen uns jetzt dem Unbekann
 ten.\n\nDurch die Praxis der Rekapitulation atmen wir uns frei.
LOCATION:HauptbÃ¼hne
DTSTAMP:20200214T132918Z
DTSTART:20200425T080000Z
DTEND:20200425T100000Z
END:VEVENT
END:VCALENDAR