BEGIN:VCALENDAR
VERSION:2.0
PRODID:https://github.com/derhansen/sf_event_mgt
METHOD:PUBLISH
BEGIN:VEVENT
UID:177-95@lichtanker.at
CLASS: PUBLIC
SUMMARY:Kurs im Handauflegen
DESCRIPTION:Im Kurs erfÃ¤hrstÂ du:\n\n 	spirituelle und energetische Grundl
 agen 	den Umgang mit Klienten 	die wichtigsten Grundpositionen 	eine Techn
 ikÂ fÃ¼r die eigene Energiepflege \n\nDie Kurstage beinhalten:\n\n 	KÃ¶rpe
 rÃ¼bungen und Tanz 	EnergieÃ¼bungen und Rituale 	Meditation 	Theorie 	und 
 viel Praxis \n\nDer Kurs ist geeignet fÃ¼r Menschen:\n\n 	die sich regelmÃ
 ¤ÃŸig stÃ¤rken, entspannen, sich energetisch reinigen und balancieren mÃ¶c
 hten 	die eine Therapie alternativ oder komplementÃ¤rmedizinisch unterstÃ¼
 tzen mÃ¶chten 	die eine BrÃ¼cke finden mÃ¶chten in die Welt der Spirituali
 tÃ¤tÂ  	eine Frequenz halten mÃ¶chten, umÂ die Energien der richtigen Reso
 nanzpunkteÂ anzuziehen 	kompetent einen Beruf im alternativmedizinischen B
 ereich anstrebenÂ  	mit Depression, Stress, SchlafstÃ¶rungen, schwachen Ne
 rven, gesundheitlichen Problemen \n\nDas Handauflegen hat viele Namen. Wir
 Â kennen es als Reiki, Healing Touch, die Rose Methode, das Magnetisieren 
 und viele andere Methoden arbeiten damit. In diesem KursÂ gehst du direkt 
 mit der Erde und mit der SchÃ¶pfung, mit der universellen, gÃ¶ttlichen Que
 lle in Bindung und erfÃ¤hrst direkt von dort, welche Energien durch dich f
 lieÃŸen mÃ¶chten. Nicht ein Meister, sondern du selbst ermÃ¤chtigst dich d
 azu ein meisterhaft guter Energiekanal zu sein. Durch viel Praxis wird dir
  dieser Energiekanal bewusst und du lernst die Energien durch dich flieÃŸe
 n zu lassen.\n\n\n\nDu erfÃ¤hrst eine energetische Methode, welcheÂ die Se
 lbstheilungskrÃ¤fte und das Immunsystem stÃ¤rkt, tief entspannt und regene
 riert, dich einen guten Umgang mit Stress finden lÃ¤sst,Â Schmerzen linder
 n kann und die Lebenskraft harmonisiert.Â \n\n\n\nDer KursÂ findet in klei
 nen Gruppen statt (mind. 5 bis max. 12Â Teilnehmern). So kann jeder mit se
 inen eigenen Themen in die Tiefe gehen.Â \n\nIst auch fÃ¼r Menschen geeign
 et die einfach nur einen SpaceÂ suchen um sich regelmÃ¤ÃŸig zu entspannen.
 \n\n4 Termine zu je 3 StundenÂ \n\n\n\n(kontaktiere Daniela wenn du dich f
 Ã¼r eine Zertifizierung als Energetiker interessierst)\n\n\n\nTermine: Don
 nerstags von 11:00 bis 14:00 Uhr (3.4., 10.4., 17.4., 24.4.)  Infoabend mi
 t praktischem Einblick: Mittwoch, 26. MÃ¤rz 2025, 20:00 ONLINE\n\nDonnerst
 ag, 20. MÃ¤rz 2025, 17:00 - 18:Â 00 Uhr (vor Ort)Â   Preis: der Infoabend 
 ist kostenlos; fÃ¼r den Kurs 140,- oder nach individueller Vereinbarung  O
 rt: Lichtanker Connect, Mariahilferstrasse 88a/3/16, 1070Â Wien  Bei Inter
 esse fÃ¼r den Infoabend oder den gesamten Kurs, schreibe mir einfach eine 
 Email an reikifuchs@gmail.com oder ein SMS an 06505551588
DTSTAMP:20250130T054646Z
DTSTART:20250403T090000Z
DTEND:20250424T120000Z
END:VEVENT
END:VCALENDAR