BEGIN:VCALENDAR
VERSION:2.0
PRODID:https://github.com/derhansen/sf_event_mgt
METHOD:PUBLISH
BEGIN:VEVENT
UID:236-95@lichtanker.at
CLASS: PUBLIC
SUMMARY:Kreiere dein eigenes Medizinrad
DESCRIPTION:
DTSTAMP:20251103T234925Z
DTSTART:20260326T180000Z
DTEND:20260326T210000Z
END:VEVENT
END:VCALENDAR