BEGIN:VCALENDAR
VERSION:2.0
PRODID:https://github.com/derhansen/sf_event_mgt
METHOD:PUBLISH
BEGIN:VEVENT
UID:126-95@lichtanker.at
CLASS: PUBLIC
SUMMARY:Kontaktvorbereitung Austausch & Meditation
DESCRIPTION:Hallo liebe Perspektivenwechsler und Perspektivenwechslerinnen,
  wir haben die Intension gesetzt uns am Samstag, den 28.5, im Gruppenforma
 t zusammen zu setzen und eine gemeinsame Zeit des Austauschs nicht alltäg
 licher Themen zu kreieren. Dies dient unter anderem ebenso dem Einstieg in
  das am Montag, dem 30.5 stattfindendem Channelling-Event sowie den nachfo
 lgenden Events am Tree of Life Festival.\n\nModerieren wird das ganze Raff
 ael und Simon, die jeweils auch die beiden Kanalleiter sind für die Extra
 teresstrischen Wesen Markus Samu LL i von den YahYel und Ringo von den Sas
 sani. Bei Bedarf wird es zu einer Kontaktmeditation kommen zwischen uns au
 f  der Erde und eventuell noch weiter zu den galaktischen Freunden im All
  (außgenommen den Overlords von Orion, welche ja auch keine Freunde sind)
 .\n\n\n\nWir laden euch herzlich ein teilzuhaben und freuen uns genauso au
 f neue Gesichter sowie alt bekannte Sternenfreunde.\n\nYahoohm (Freude auf
  YahYelisch)\n\nEnergieausgleich für RAUM + ZEIT: Eigenverantwortlicher B
 eitrag nach eigenem Ermessen\n\nAnmeldung via Telegram @actlikeyouknow26 o
 der contact@kemenczy.at
LOCATION:LichTAnker
DTSTAMP:20220325T192632Z
DTSTART:20220528T160000Z
DTEND:20220528T190000Z
END:VEVENT
END:VCALENDAR