BEGIN:VCALENDAR
VERSION:2.0
PRODID:https://github.com/derhansen/sf_event_mgt
METHOD:PUBLISH
BEGIN:VEVENT
UID:115-95@lichtanker.at
CLASS: PUBLIC
SUMMARY:Klang-Meditationsreise mit der Kraft der GÃ¶ttin Inanna
DESCRIPTION:Inanna ist die archetypische â€žGroÃŸe GÃ¶ttinâ€œ, sie wurde in
  Sumer, dem heutigen sÃ¼dlichen Irak, verehrt. HauptsÃ¤chlich Ã¼ber zwei S
 trÃ¤nge reichen unsere kulturellen Wurzeln ins Sumerische zurÃ¼ck; Ã¼ber d
 as alte Griechenland und Persien sowie Ã¼ber Israel und Babylon. Inannas m
 ythische Geschichte wurde im 3. Jahrtausend v. Chr.(v.u.Z) in Keilschrift 
 auf Tontafeln aufgezeichnet. Elisbeth HÃ¤mmerling beschreibt Inanna als â€
 žvollstÃ¤ndige MondgÃ¶ttinâ€œ in ihrem Buch: â€ž MondgÃ¶ttin Inanna, ein w
 eiblicher Weg zur Ganzheit.â€œ (Kreuzverlag 1995)\n\nInanna war KÃ¶niging 
 des Himmels, der Erde und der Unterwelt - somit Symbol fÃ¼r das Horchen au
 f die innere Stimme und die Begegnung mit dem eigenen Schatten in der Unte
 rwelt und der darausfolgenden Transformation durch die Begegnung mit der d
 unklen Schwester Ereschkigal und dem Tod. Inanna ist die VorgÃ¤ngerin der 
 babylonischen Isthar und aller orientalischen MuttergÃ¶ttinen.\n\nDie Jung
 sche Analytikerin Sylvia Perera schreibt Ã¼ber den Inanna-Isthar- Ereschki
 gal Mythos in ihrem Buch â€žDer Weg zur GÃ¶ttin der Tiefe.- Die ErlÃ¶sung 
 der dunklen Schwester- Eine Initiation fÃ¼r Frauenâ€œ (Ansata Verlag 1985)
  um die verarmte Seele der modernen Menschen wieder mit den archetypischen
  KrÃ¤ften in Verbindung zu bringen.\n\nDie Auseinandersetzung und Begegnun
 g mit Inanna ist eine Reise zum alten archaischen weiblichen Wissen und de
 r darin enthaltenen Kraft, die durch patriarchale HerrschaftsverhÃ¤ltnisse
  verschÃ¼ttet wurden. \n\nEmpfohlenerÂ Unkostenbeitrag â‚¬ 20,- fÃ¼r LichT
 Anker und Viasana Mitglieder nur â‚¬ 10,-
LOCATION:LichTAnker
DTSTAMP:20220905T161437Z
DTSTART:20220923T170000Z
DTEND:20220923T190000Z
END:VEVENT
END:VCALENDAR