BEGIN:VCALENDAR
VERSION:2.0
PRODID:https://github.com/derhansen/sf_event_mgt
METHOD:PUBLISH
BEGIN:VEVENT
UID:220-95@lichtanker.at
CLASS: PUBLIC
SUMMARY:Intuitiver Heilkreis
DESCRIPTION:Wir sind eine Gemeinschaft von HeilsbegleiterInnen, die zusamme
 nkommen und Menschen einladen, die entspannen, regenerieren und sich in Ba
 lance bringen mÃ¶chten.Â \n\nIn den gegenwÃ¤rtigenÂ Zeiten ist es bedeutsa
 m stark, gesund und fokussiert zu sein undÂ eine Frequenz zu halten, die E
 nergie der richtigen ResonanzpunkteÂ anzieht.\n\nBei "Intuitives Heilen â€
 “ Heal the Healer Within" Ã¶ffnen wir einen Raum, um miteinander diesen We
 g zu gehen. In der Gemeinschaft vervielfÃ¤ltigt sich die Kraft des Einzeln
 en und diese Kraft wollen wir nutzen.Â \n\n\n\nWir inspirieren und stÃ¤rke
 n uns gegenseitig,Â harmonisieren uns und nÃ¤hren die SelbstheilungskrÃ¤ft
 e. Wir unterstÃ¼tzen uns beim Erinnern an die natÃ¼rliche Ordnung.\n\n\n\n
 Gemeinsam erschaffen wir eine AtmosphÃ¤re des Vertrauens und des Wirkens, 
 in der jedeR TeilnehmerIn nicht nur die eigene innere Heilung entfalten, s
 ondern auch das eigene heilende Potenzial einsetzen kann.Â \n\nJedeR anwes
 ende HeilsbegleiterIn hat sein eigenes Talent und eigene Werkzeuge die int
 uitiv zum Einsatz kommen.Â Energetik, Anzestrales Wissen, Rituale, Meditat
 ion, Sound, Dance und Frequenzmedizin sind tragende Elemente.\n\n\n\nU.a. 
 mit: Andreas Wihart, Barbara Aurora, Celina, Daniela Agnes Fuchs, Dominik 
 Kainz, ElkeÂ Waclawiczek, Karin Hackl, Pockerl, und andere.\n\nGeeignet fÃ
 ¼r Menschen die in die Tiefe schauen mÃ¶chten, um an die Wurzel der Ursach
 en zu kommen, um blockierende Energien auf zu lÃ¶sen, gesundheitliche Prob
 leme haben und alternative oder komplementÃ¤re Methoden finden mÃ¶chten. F
 Ã¼r Menschen die in tiefer Ebene regenerieren und transformieren mÃ¶chten.
 \n\nKOSTEN: freie Spende\n\nANMELDUNG: SMS genÃ¼gt: 0650 5551588\n\n\n\n
DTSTAMP:20251113T151245Z
DTSTART:20250522T170000Z
DTEND:20250626T190000Z
END:VEVENT
END:VCALENDAR