BEGIN:VCALENDAR
VERSION:2.0
PRODID:https://github.com/derhansen/sf_event_mgt
METHOD:PUBLISH
BEGIN:VEVENT
UID:49-95@lichtanker.at
CLASS: PUBLIC
SUMMARY:LichTAnker Frauenheilkreis mit Sibylle
DESCRIPTION:Frauenheilkreis im LichTAnker\n\nEin weit verbreitetes Phänome
 n unserer Gesellschaft ist unter anderem die Vermischung und Verwirrung de
 r männlichen und weiblichen Grundenergie. Mit einem monatlichen Treffen i
 m Kreise von Frauen möchten und werden wir uns austauschen, zuhören, von
  einander lernen, musizieren, lachen, weinen, entspannen, ..., eintauchen 
 in unsere Weiblichkeit auf dem Weg der kollektiven Heilung.\n\nSei auch du
  dabei und gestalte unsere gemeinsame Reise mit!\n\nAbseits von Wettbewerb
  und Be-/Verurteilung soll hier ein Raum für uns selbst sowie all unsere 
 Schwestern sein.  women empower women\n\n\n\nAm Montag, 15.06. wird Sibyl
 le MoonDeer ihr Wissen über Frauenheilkräuter und diverse schamanische A
 nsätze um in die eigene weibliche Kraft zu kommen mit uns teilen. \n\nDi
 eser Abend wird auf freier Spendenbasis stattfinden.\n\n\n\nBitte bringe e
 twas für unseren gemeinsamen Wohlfühltisch mit.
LOCATION:LichTAnker
DTSTAMP:20200526T183121Z
DTSTART:20200615T160000Z
DTEND:20200615T200000Z
END:VEVENT
END:VCALENDAR