BEGIN:VCALENDAR
VERSION:2.0
PRODID:https://github.com/derhansen/sf_event_mgt
METHOD:PUBLISH
BEGIN:VEVENT
UID:123-95@lichtanker.at
CLASS: PUBLIC
SUMMARY:Parallel-Channel Markus Samu LL i & Ringo
DESCRIPTION: \n\nSpecial Edition mit Markus LL i (Simon Kupi Enu Bake Gerve
 ): offenes parallel Channeling Deutsch + Englisch Video mit Markus LL i\n\
 nhttps://www.yahyel.space https://www.throughdimensions.com/\n\nAho!\n\nHe
 y du dich für Perspektivenreichtum interessierender Mensch! Anders kann i
 ch mir jedenfalls nicht erklären wie du hier gelandet bist =) Ich grüße
  dich und lade dich herzlichst ein bei der diesjährigen YahYel & Freunde 
 Tour 2022 vorbei zu schauen.\n\nWir nehmen erneut Platz an der Seite von M
 arkus Samu LL i der YahYel Zivilisation um unsere Blickwinkel zu veränder
 n und gegebenenfalls sogar zu erweitern. Wir hören uns Geschichten dieser
  Sternenbevölkerung an während wir mit im Regelfall mehreren andersdenke
 nden relaxen und bei Bedarf in direkte Kommunikation mit einem Außerirdis
 chen treten dürfen.\n\nSimon, ein multidimensionales Wesen, ist in Deutsc
 hland geboren und aufgewachsen. Schon in jungen Jahren hatte er das Bedür
 fnis, seine Grenzen zu erweitern. Das menschliche Leben auf der physischen
  Erde schien immer sehr begrenzt und irgendwie nicht auf dem neuesten Stan
 d zu sein. Besuche von einem "anderen" Wesen fanden regelmäßig in der Tr
 aumwelt und einmal mit bewusster Erinnerung im physischen Bereich statt. A
 uch die Vorstellungen von "Tod" und "völliger Schwärze nach dem Leben" s
 chienen sehr seltsam und neu zu sein. Aber erst 2012 begann Simon sich zu 
 erinnern und tiefer mit alternativen Paradigmen auseinanderzusetzen. Bis h
 eute ist er Ayahuasca-geprüft und verbringt viel Zeit mit verschiedensten
  Wesen, die ähnliche Fragen haben wie er, bezüglich möglicher Bewusstse
 inszustände.\n\nAuf seiner kontinuierlichen Reise durch die Erd-Ebene sti
 eß er dann auch auf die YahYel und andere Mitglieder der galaktischen Fam
 ilie. Er fing an, Markus Samu LL I im Jahr 2016 zu channeln. Diese Entitä
 t aus der YahYel-Zivilisation ist ein Pilot, Clown und Forscher des Bewuss
 tseins. Er mag es, mit seinem Raumschiff durch Galaxien zu reisen und die 
 unterschiedlichsten Lebensformen zu entdecken. Sein Gesicht erscheint manc
 hmal in meditativ geschaffenen Bildern bemalt und mit Zeichen versehen. Di
 es deutet auf eine tiefe Verbindung zu unseren Ureinwohnern auf Erden hin.
  Markus Samu LL I behauptet, unsere schöne Mutter Gaia bereits mit seinen
  Füßen betreten zu haben.\n\nDie YahYel & Freunde Tour 2022 findet berei
 ts im fünften aufeinanderfolgenden Jahr statt und bietet vorerst die letz
 te Möglichkeit in diesem Rahmen daran Teilzunehmen.\n\nEin Raumschiff mit
  den YahYel an Board wurde 1997 in Phönix Arizona von über zehntausend M
 enschen gesehen und er selbst hatte auch schon mehrere Sichtungen unidenti
 fizierbarer Flugobjekten. Laut eigenen Angaben sind die YahYel potentiell 
 eine der ersten ausserirdischen Zivilisationen mit denen wir Erden-Mensche
 n in offenen, physikalischen Kontakt treten werden.\n\nBekannt gemacht wur
 den die YahYel vor allem durch Bashar, einem Wesen der Sassani-Zivilisaton
 , den Darryl Anka in unsere Welt überträgt.\n\nDie YahYel haben uns ähn
 liche, humanoide physische Körper, sind aber aus unserer Perspektive etwa
 s kleiner als wir Menschen der Erde. Ihre Zivilisation umfasst mehrere hun
 dert-tausend Wesen. Die YahYel bewohnen nicht ein so limitiertes Raum-Zeit
 -Gefüge und befinden sich, in diesem Sinne, nicht in der gleichen Dimensi
 on wie wir. Sie nutzen sehr fortgeschrittene Methoden, die meist lediglich
  auf das innere Bewusstsein und tiefe Einsicht basieren, anstatt auf Mater
 ie und Technik. Durch die vollständige Integration der Tatsache ein Teil 
 des Einen zu sein, 'alles-was-IST’ in voller Akzeptanz schon in sich zu 
 tragen, sind die YahYel in der Lage, den Schöpfungsprozess sehr bewusst z
 u gestalten und sehr frei zu kreieren. Somit gehören für sie Phänomene 
 wie Teleportation, Telepathie, Levitation oder Telekinese zur Tagesordnung
 . Außerdem behaupten sie, durch ihr hohes Schwingen im Einklang mit der b
 edingungslosen Liebe der Schöpfung, unsichtbar zu sein für jegliche Form
  von Einflussnahme durch limitierende und trennende Manifestationen und We
 sen, die sich dem Pfad der Separation verschreiben – sie sehen für sich
  auch keinen Sinn darin Gewalt, Macht, Neid, Hass oder Eifersucht zu kreie
 ren. Sie wünschen sich von Herzen, ihr Wesen mit uns zu teilen, damit wir
  fortan als eine Familie gemeinsam weiter wachsen und expandieren können.
 \n\nDes Weiteren gibt es auf Youtube einige Videos von Simon Gervé und Ma
 rkus Samu LL i, anhand derer man sich ein guten Eindruck von einem Channel
 ing-Abend machen kann: https://bit.ly/3nruA7j\n\nIch freue mich auf zahlre
 iche neue Interessenten oder altbekannte intergalaktische Freunde!\n\nvon 
 Herzen, Simon\n\n~~\n\nShivai!\n\nIch freue mich sehr, dich zu diesem Even
 t einladen zu dürfen. Ich stelle mich als Conscious Channel ("bewusster K
 anal") zur Verfügung. Gemeinsam erlauben wir ein Energiefeld, um die Pers
 pektiven des eigenen höheren Selbst effektiv integrieren zu können. Ich 
 verbinde in diesem Prozess meine individuelle Energie mit unterschiedlchen
  Wesen der Schöpfung (Ich lasse "Engel", "Aliens", "Archetypen" "durch mi
 ch sprechen") - um Dir die verbale Kommunikation mit dieser kombinierten E
 nergie (aus meiner Persönlichkeit, meinem+deinem höheren Selbst, ätheri
 scher Aspekte) zu ermöglichen.\n\nDie Information zur selbstermächtigten
 , kreativen, liebevollen Gestaltung des eigenen Lebens steht hierbei meist
  im Vordergrund. \n\nDie Kommunikation während des Channeling erfolgt mei
 nerseits auf Englisch.\n\nEnergieausgleich für RAUM + ZEIT: Eigenverantwo
 rtlicher Beitrag nach eigenem Ermessen\n\nAnmeldung via Telegram @actlikey
 ouknow26 oder contact@kemenczy.at\n\nChanneling-Website \n\nChanneling Lic
 htanker Audio Archiv (Deutsch/Englisch) Bewusste Erfahrungsgestaltung (Gru
 ndlagenpräsentation - Deutsch)
LOCATION:LichTAnker
DTSTAMP:20220325T192648Z
DTSTART:20220530T170000Z
DTEND:20220530T190000Z
END:VEVENT
END:VCALENDAR