BEGIN:VCALENDAR
VERSION:2.0
PRODID:https://github.com/derhansen/sf_event_mgt
METHOD:PUBLISH
BEGIN:VEVENT
UID:6-95@lichtanker.at
CLASS: PUBLIC
SUMMARY:Conscious Channeling
DESCRIPTION:Wir freuen uns sehr, dich zu dem Event einladen zu dürfen, bei
  dem sich unser treues LichTAnker-Mitglied Raffael Kéménczy sich als Con
 scious Channel ("bewusster Kanal") zur Verfügung stellt.\n\nGemeinsam erl
 auben wir ein Energiefeld, um die Perspektiven des eigenen höheren Selbst
  effektiv integrieren zu können.\n\nEr verbindet in diesem Prozess seine
  individuelle Energie mit unterschiedlchen Wesen der Schöpfung (er lässt
  "Engel", "Aliens", "Archetypen" "durch sich sprechen") - um Dir die verb
 ale Kommunikation mit dieser kombinierten Energie (aus seiner Persönlichk
 eit, seinem+deinem höheren Selbst, ätherischer Aspekte) zu ermöglichen.
 \n\nDie Information zur selbstermächtigten, kreativen, liebevollen Gestal
 tung des eigenen Lebens steht hierbei meist im Vordergrund.\n\nDie Kommuni
 kation während des Channeling erfolgt seinerseits in Englisch. 
LOCATION:LichTAnker
DTSTAMP:20200215T203054Z
DTSTART:20200302T180000Z
DTEND:20200302T210000Z
END:VEVENT
END:VCALENDAR