BEGIN:VCALENDAR
VERSION:2.0
PRODID:https://github.com/derhansen/sf_event_mgt
METHOD:PUBLISH
BEGIN:VEVENT
UID:97-95@lichtanker.at
CLASS: PUBLIC
SUMMARY:Conscious Channeling Ringo & Handpan Resonance
DESCRIPTION:Shivai!\n\nIch freue mich sehr, dich zu diesem Event einladen z
 u dürfen. Ich stelle mich als Conscious Channel ("bewusster Kanal") zur V
 erfügung. Gemeinsam erlauben wir ein Energiefeld, um die Perspektiven des
  eigenen höheren Selbst effektiv integrieren zu können. Ich verbinde in 
 diesem Prozess meine individuelle Energie mit unterschiedlchen Wesen der S
 chöpfung (Ich lasse "Engel", "Aliens", "Archetypen" "durch mich sprechen"
 ) - um Dir die verbale Kommunikation mit dieser kombinierten Energie (aus 
 meiner Persönlichkeit, meinem+deinem höheren Selbst, ätherischer Aspekt
 e) zu ermöglichen.\n\nDie Information zur selbstermächtigten, kreativen,
  liebevollen Gestaltung des eigenen Lebens steht hierbei meist im Vordergr
 und. \n\n\n\nDie Kommunikation während des Channeling erfolgt meinerseits
  in Englisch. Gregor unterstützt die Übertragung durch musikalische Insp
 iration via Handpan.\n\nEnergieausgleich für RAUM + ZEIT: Eigenverantwort
 licher Beitrag nach eigenem Ermessen\n\n\n\nChanneling Lichtanker Audio Ar
 chiv (Deutsch/Englisch)  Bewusste Erfahrungsgestaltung (Grundlagenpräsent
 ation - Deutsch)  Conscious Channeling (Englisch) http://bit.ly/actlikeyou
 know26 https://open.lbry.com/@actlikeyouknow:e https://open.lbry.com/@actl
 ikeyouknow26:d\n\nHandpan-UFO-Resonance via https://www.facebook.com/Surre
 alis.Gregorius 
LOCATION:Bei euch Zuhause
DTSTAMP:20211202T015519Z
DTSTART:20211206T180000Z
DTEND:20211206T200000Z
END:VEVENT
END:VCALENDAR