BEGIN:VCALENDAR
VERSION:2.0
PRODID:https://github.com/derhansen/sf_event_mgt
METHOD:PUBLISH
BEGIN:VEVENT
UID:130-95@lichtanker.at
CLASS: PUBLIC
SUMMARY:Infoabend zur Handauflegekunst Ausbildung
DESCRIPTION:Im Kurs lernst du:\n\n 	energetische Grundlagen 	den Umgang mit
  Klienten 	die wichtigsten Grundpositionen 	ein Programm für die eigene E
 nergiepflege \n\nDie Kurstage beinhalten:\n\n 	Körperübungen und Tanz 	E
 nergieübungen und Rituale 	Meditation 	Theorie 	und viel Praxis \n\nDu ge
 hst direkt mit der Erde und mit der Schöpfung, mit der universellen, göt
 tlichen Quelle in Bindung und erfährst direkt von dort, welche Energien d
 urch dich fließen möchten. Es ist Reiki der Neuen Zeit. Nicht ein Meiste
 r, sondern du selbst ermächtigst dich dazu ein meisterhaft guter Energiek
 anal zu sein. Durch viel Praxis wird dir dieser Energiekanal bewusst und d
 u lernst die Energien durch dich fließen zu lassen.\n\nDu erfährst eine 
 energetische Methode, welche die Selbstheilungskräfte und das Immunsyste
 m stärkt, tief entspannt und regeneriert, dich einen guten Umgang mit Str
 ess finden lässt, Schmerzen lindern kann und die Lebenskraft harmonisier
 t. \n\nNach dem 2. Semester bist du berechtigt die Diplomausbildung zum/r
  ReikitherapeutIn zu beginnen, welche vom Österr. Berufsverband (ÖBRT) a
 nerkannt ist.   Die Ausbildung findet in kleinen Gruppen statt (mind. 4 b
 is max. 8 TN). So kann jeder mit seinen Themen in die Tiefe gehen und wir 
 können uns die Termine relativ frei einteilen.   1. Semester: 40 Stunden
  2. Semester: 40 Stunden  Infoabend mit praktischem Einblick: 25.4.22, 19:
 30 - 21:30  Preis: 500 € /450 € ermäßigt zB für Mitglieder und Part
 nervereine  Ort: Lichtanker, Felberstrasse 2/23, 1150 Wien  Bei Interesse 
 für den Infoabend oder den gesamten Kurs, schreibe mir einfach eine Email
  an reikifuchs@gmail.com
LOCATION:LichTAnker
DTSTAMP:20220408T134249Z
DTSTART:20220503T173000Z
DTEND:20220503T193000Z
END:VEVENT
END:VCALENDAR