BEGIN:VCALENDAR
VERSION:2.0
PRODID:https://github.com/derhansen/sf_event_mgt
METHOD:PUBLISH
BEGIN:VEVENT
UID:88-95@lichtanker.at
CLASS: PUBLIC
SUMMARY:Silence Oneness Meditation
DESCRIPTION:
LOCATION:Bei euch Zuhause
DTSTAMP:20211019T114637Z
DTSTART:20211024T080000Z
DTEND:20221204T100000Z
END:VEVENT
END:VCALENDAR